BEGIN:VCALENDAR
VERSION:2.0
PRODID:https://github.com/derhansen/sf_event_mgt
METHOD:PUBLISH
BEGIN:VEVENT
UID:46-13@www.netzwerkgildesaentis.ch
CLASS: PUBLIC
SUMMARY:Business Lunch - Netzwerk Gilde Säntis
DESCRIPTION:
LOCATION:Restaurant Adler
DTSTAMP:20251216T093151Z
DTSTART:20260512T092000Z
DTEND:20260512T110000Z
END:VEVENT
END:VCALENDAR
