BEGIN:VCALENDAR
VERSION:2.0
PRODID:https://github.com/derhansen/sf_event_mgt
METHOD:PUBLISH
BEGIN:VEVENT
UID:51-13@www.netzwerkgildesaentis.ch
CLASS: PUBLIC
SUMMARY:Business Lunch - Netzwerk Gilde Säntis
DESCRIPTION:
LOCATION:Restaurant Adler
DTSTAMP:20251216T092840Z
DTSTART:20261103T102000Z
DTEND:20261103T120000Z
END:VEVENT
END:VCALENDAR
