BEGIN:VCALENDAR
VERSION:2.0
PRODID:https://github.com/derhansen/sf_event_mgt
METHOD:PUBLISH
BEGIN:VEVENT
UID:55-13@www.netzwerkgildesaentis.ch
CLASS: PUBLIC
SUMMARY:Generalversammlung Netzwerk Gilde Säntis
DESCRIPTION:
DTSTAMP:20260126T191849Z
DTSTART:20260528T163000Z
END:VEVENT
END:VCALENDAR
