BEGIN:VCALENDAR
VERSION:2.0
PRODID:https://github.com/derhansen/sf_event_mgt
METHOD:PUBLISH
BEGIN:VEVENT
UID:56-13@www.netzwerkgildesaentis.ch
CLASS: PUBLIC
SUMMARY:Herbstanlass
DESCRIPTION:
DTSTAMP:20251216T093819Z
DTSTART:20260919T163000Z
END:VEVENT
END:VCALENDAR
